BEGIN:VCALENDAR
VERSION:2.0
PRODID:-//Homes Revamped - ECPv6.15.13.1//NONSGML v1.0//EN
CALSCALE:GREGORIAN
METHOD:PUBLISH
X-ORIGINAL-URL:https://homesrevamped.com.au
X-WR-CALDESC:Events for Homes Revamped
REFRESH-INTERVAL;VALUE=DURATION:PT1H
X-Robots-Tag:noindex
X-PUBLISHED-TTL:PT1H
BEGIN:VTIMEZONE
TZID:Australia/Perth
BEGIN:STANDARD
TZOFFSETFROM:+0800
TZOFFSETTO:+0800
TZNAME:AWST
DTSTART:20190101T000000
END:STANDARD
END:VTIMEZONE
BEGIN:VEVENT
DTSTART;TZID=Australia/Perth:20200114T180000
DTEND;TZID=Australia/Perth:20200114T193000
DTSTAMP:20260425T004007
CREATED:20190802T211943Z
LAST-MODIFIED:20190802T211943Z
UID:1788-1579024800-1579030200@homesrevamped.com.au
SUMMARY:Free Clutter Busting Workshop: Stirling Libraries - Inglewood
DESCRIPTION:Cluttered home? Overwhelmed? Don’t know where to start? \nStirling Libraries have engaged Me\, to run multiple workshops over the coming months to help residents learn how to declutter and get organised. \nJoin us at Inglewood Library for our Clutter Busting Workshop to find out about ‘the clutter effect’ and why it affects women more than men. And why ‘declutter your home\, declutter your mind’ is easier said than done. \nThis workshop is packed (but not cluttered)\, with advice\, tips and tricks to get you started on your decluttering journey. Practical\, insightful and often humorous\, I will give you the information and inspiration you need. \nBe sure to check out our other Clutter Busting workshops in March & May.
URL:https://homesrevamped.com.au/event/free-clutter-busting-workshop-stirling-libraries-inglewood/
LOCATION:Stirling Libraries Inglewood\, 895 Beaufort Street\, Inglewood\, Western Australia\, 6052\, Australia
ATTACH;FMTTYPE=image/jpeg:https://homesrevamped.com.au/wp-content/uploads/2019/04/time-over-money-FB.jpg
END:VEVENT
END:VCALENDAR