BEGIN:VCALENDAR
VERSION:2.0
PRODID:-//Homes Revamped - ECPv6.15.13.1//NONSGML v1.0//EN
CALSCALE:GREGORIAN
METHOD:PUBLISH
X-WR-CALNAME:Homes Revamped
X-ORIGINAL-URL:https://homesrevamped.com.au
X-WR-CALDESC:Events for Homes Revamped
REFRESH-INTERVAL;VALUE=DURATION:PT1H
X-Robots-Tag:noindex
X-PUBLISHED-TTL:PT1H
BEGIN:VTIMEZONE
TZID:UTC
BEGIN:STANDARD
TZOFFSETFROM:+0000
TZOFFSETTO:+0000
TZNAME:UTC
DTSTART:20180101T000000
END:STANDARD
END:VTIMEZONE
BEGIN:VTIMEZONE
TZID:Australia/Perth
BEGIN:STANDARD
TZOFFSETFROM:+0800
TZOFFSETTO:+0800
TZNAME:AWST
DTSTART:20180101T000000
END:STANDARD
END:VTIMEZONE
BEGIN:VEVENT
DTSTART;TZID=UTC:20190809T110000
DTEND;TZID=UTC:20190809T120000
DTSTAMP:20260425T003616
CREATED:20190724T204232Z
LAST-MODIFIED:20190802T203224Z
UID:1681-1565348400-1565352000@homesrevamped.com.au
SUMMARY:Free Clutter Busting Workshop - Ballajura
DESCRIPTION:Free Clutter Busting Workshop.  A solutions-based workshop that will provide insight\, information and advice about decluttering your home and mind. \nThis session is great for people overwhelmed by clutter\, as well as those looking for some practical strategies that will help clear the clutter from their homes and minds. \nAttendees are invited to come along from 10.30 am for a cuppa\, and a chat before the presentation\, which will begin at 11 am and finish at midday. \nPlaces are limited\, bookings are essential.  Click here or on the event link below for more information and to book online\, or call Ballajura Library to register. \nI look forward to seeing you there\, Kerry
URL:https://homesrevamped.com.au/event/information-advice-decluttering/
LOCATION:Ballajura Pop-Up Library\, 225 Illawarra Crescent\, Ballajura\, WA\, 6066\, Australia
ATTACH;FMTTYPE=image/jpeg:https://homesrevamped.com.au/wp-content/uploads/2018/09/hard-paper-house-and-heart-model-on-wood-table-a-symbol-for-ecology-picture-id1001345594-2.jpg
END:VEVENT
BEGIN:VEVENT
DTSTART;TZID=Australia/Perth:20190821T173000
DTEND;TZID=Australia/Perth:20190821T183000
DTSTAMP:20260425T003616
CREATED:20190802T203018Z
LAST-MODIFIED:20190802T203955Z
UID:1770-1566408600-1566412200@homesrevamped.com.au
SUMMARY:Free Clutter Busting Workshop - Ellenbrook
DESCRIPTION:Free Clutter Busting Workshop.  A solutions-based workshop that will provide insight\, information and advice about decluttering your home and mind. \nThis session is great for people overwhelmed by clutter\, as well as those looking for some practical strategies that will help clear the clutter from their homes and minds. \nPlaces are limited\, bookings are essential.  Click here or on the event link below for more information and to book online\, or call Ellenbrook Library to register. \nI look forward to seeing you there\, Kerry
URL:https://homesrevamped.com.au/event/free-clutter-busting-workshop/
LOCATION:ellenbrook community library\, 90 Main Street\, Ellenbrook\, Western Australia\, 6069\, Australia
ATTACH;FMTTYPE=image/jpeg:https://homesrevamped.com.au/wp-content/uploads/2018/09/hard-paper-house-and-heart-model-on-wood-table-a-symbol-for-ecology-picture-id1001345594.jpg
END:VEVENT
BEGIN:VEVENT
DTSTART;TZID=UTC:20190822T073000
DTEND;TZID=UTC:20190822T083000
DTSTAMP:20260425T003616
CREATED:20190802T203850Z
LAST-MODIFIED:20190802T203850Z
UID:1776-1566459000-1566462600@homesrevamped.com.au
SUMMARY:Declutter Your Home Get Organised: Private Event
DESCRIPTION:Information sharing session: declutter your home and get organised.  Guest speaker @ Local Rotary Club.
URL:https://homesrevamped.com.au/event/declutter-your-home-get-organised-private-event/
LOCATION:Western Australia
ATTACH;FMTTYPE=image/jpeg:https://homesrevamped.com.au/wp-content/uploads/2019/04/time-over-money-FB.jpg
END:VEVENT
BEGIN:VEVENT
DTSTART;TZID=Australia/Perth:20190831T100000
DTEND;TZID=Australia/Perth:20190831T110000
DTSTAMP:20260425T003616
CREATED:20190802T204954Z
LAST-MODIFIED:20190802T205101Z
UID:1778-1567245600-1567249200@homesrevamped.com.au
SUMMARY:Free Clutter Busting Workshop - Beechboro
DESCRIPTION:Free Clutter Busting Workshop.  A solutions-based workshop that will provide insight\, information and advice about decluttering your home and mind. \nThis session is great for people overwhelmed by clutter\, as well as those looking for some practical strategies that will help clear the clutter from their homes and minds. \nPlaces are limited\, bookings are essential.  Click here or on the event link below for more information and to book online\, or call Beechboro Public Library to register. \nI look forward to seeing you there\, Kerry
URL:https://homesrevamped.com.au/event/free-clutter-busting-workshop-beechboro/
LOCATION:Beechboro Public Library\, 332 Benara Road\, Beechboro\, Western Australia\, 6063\, Australia
ATTACH;FMTTYPE=image/jpeg:https://homesrevamped.com.au/wp-content/uploads/2018/09/hard-paper-house-and-heart-model-on-wood-table-a-symbol-for-ecology-picture-id1001345594.jpg
END:VEVENT
END:VCALENDAR